BEGIN:VCALENDAR
VERSION:2.0
PRODID:-//American Society of Engineers of Indian Origin - ECPv6.15.11//NONSGML v1.0//EN
CALSCALE:GREGORIAN
METHOD:PUBLISH
X-ORIGINAL-URL:https://aseiusa.org
X-WR-CALDESC:Events for American Society of Engineers of Indian Origin
REFRESH-INTERVAL;VALUE=DURATION:PT1H
X-Robots-Tag:noindex
X-PUBLISHED-TTL:PT1H
BEGIN:VTIMEZONE
TZID:UTC
BEGIN:STANDARD
TZOFFSETFROM:+0000
TZOFFSETTO:+0000
TZNAME:UTC
DTSTART:20240101T000000
END:STANDARD
END:VTIMEZONE
BEGIN:VEVENT
DTSTART;TZID=UTC:20250327T183000
DTEND;TZID=UTC:20250327T203000
DTSTAMP:20260423T210857
CREATED:20250323T091957Z
LAST-MODIFIED:20250323T091957Z
UID:9950-1743100200-1743107400@aseiusa.org
SUMMARY:Unleash the Power Within
DESCRIPTION:Unleash the Power Within \nBehind every unstoppable woman is a fire within – waiting to ignite. This Women’s History Month\, let’s break barriers\, defy limits\, and unleash the power within! This is not just a conversation for women—it’s a movement for all. \nJoin us for an evening of networking and listen to Ashwini Balasubramanian\, as she takes us through an exploration of strength\, resilience\, and the power of unity in shaping a more inclusive world. Ashwini is the President – Automotive Women’s Alliance Foundation and Head of Motorcycle Development Strategy & Operations\, Harley Davidson Motor Company. \nRegister by clicking here: https://tinyurl.com/ASEIWomenMonth \nWhen: Mar 27\, 2025\, 06:30 pm ET\nWhere: Saffron Indian Cuisine\n29200 Orchard Lake Rd\, Farmington Hills\, MI 48334
URL:https://aseiusa.org/event/unleash-the-power-within/
CATEGORIES:Michigan,Upcoming
ATTACH;FMTTYPE=image/png:https://aseiusa.org/wp-content/uploads/2025/03/POWER-Within-7.png
END:VEVENT
END:VCALENDAR