BEGIN:VCALENDAR
VERSION:2.0
PRODID:-//American Society of Engineers of Indian Origin - ECPv6.15.11//NONSGML v1.0//EN
CALSCALE:GREGORIAN
METHOD:PUBLISH
X-WR-CALNAME:American Society of Engineers of Indian Origin
X-ORIGINAL-URL:https://aseiusa.org
X-WR-CALDESC:Events for American Society of Engineers of Indian Origin
REFRESH-INTERVAL;VALUE=DURATION:PT1H
X-Robots-Tag:noindex
X-PUBLISHED-TTL:PT1H
BEGIN:VTIMEZONE
TZID:UTC
BEGIN:STANDARD
TZOFFSETFROM:+0000
TZOFFSETTO:+0000
TZNAME:UTC
DTSTART:20240101T000000
END:STANDARD
END:VTIMEZONE
BEGIN:VTIMEZONE
TZID:America/Detroit
BEGIN:DAYLIGHT
TZOFFSETFROM:-0500
TZOFFSETTO:-0400
TZNAME:EDT
DTSTART:20240310T070000
END:DAYLIGHT
BEGIN:STANDARD
TZOFFSETFROM:-0400
TZOFFSETTO:-0500
TZNAME:EST
DTSTART:20241103T060000
END:STANDARD
BEGIN:DAYLIGHT
TZOFFSETFROM:-0500
TZOFFSETTO:-0400
TZNAME:EDT
DTSTART:20250309T070000
END:DAYLIGHT
BEGIN:STANDARD
TZOFFSETFROM:-0400
TZOFFSETTO:-0500
TZNAME:EST
DTSTART:20251102T060000
END:STANDARD
BEGIN:DAYLIGHT
TZOFFSETFROM:-0500
TZOFFSETTO:-0400
TZNAME:EDT
DTSTART:20260308T070000
END:DAYLIGHT
BEGIN:STANDARD
TZOFFSETFROM:-0400
TZOFFSETTO:-0500
TZNAME:EST
DTSTART:20261101T060000
END:STANDARD
END:VTIMEZONE
BEGIN:VTIMEZONE
TZID:America/Los_Angeles
BEGIN:DAYLIGHT
TZOFFSETFROM:-0800
TZOFFSETTO:-0700
TZNAME:PDT
DTSTART:20240310T100000
END:DAYLIGHT
BEGIN:STANDARD
TZOFFSETFROM:-0700
TZOFFSETTO:-0800
TZNAME:PST
DTSTART:20241103T090000
END:STANDARD
BEGIN:DAYLIGHT
TZOFFSETFROM:-0800
TZOFFSETTO:-0700
TZNAME:PDT
DTSTART:20250309T100000
END:DAYLIGHT
BEGIN:STANDARD
TZOFFSETFROM:-0700
TZOFFSETTO:-0800
TZNAME:PST
DTSTART:20251102T090000
END:STANDARD
BEGIN:DAYLIGHT
TZOFFSETFROM:-0800
TZOFFSETTO:-0700
TZNAME:PDT
DTSTART:20260308T100000
END:DAYLIGHT
BEGIN:STANDARD
TZOFFSETFROM:-0700
TZOFFSETTO:-0800
TZNAME:PST
DTSTART:20261101T090000
END:STANDARD
END:VTIMEZONE
BEGIN:VEVENT
DTSTART;TZID=UTC:20250515T183000
DTEND;TZID=UTC:20250515T203000
DTSTAMP:20260422T184355
CREATED:20250506T095243Z
LAST-MODIFIED:20250506T095243Z
UID:9990-1747333800-1747341000@aseiusa.org
SUMMARY:A Curious Case of Quantum Computing
DESCRIPTION:ASEI Michigan Chapter invites you to join us for an evening of networking and listen to Sandip Dholakia as he presents an interestingly curious case of Quantum Computing on May 15th at 6:30 pm. It is an in-person event at the Saffron Indian Cuisine. \nQuestions that might have been on your mind…\nHow do quantum computers work? Are they a help or a hindrance to society? Are you prepared to protect your data and information from the threats of quantum computers?\n“A curious case of quantum computing” answers these and other questions about quantum threats. \nSandip Dholakia is an author\, cryptographer\, and information security professional. He is a principal security architect and co-chair of the Cryptography Center of Excellence (CoE) at Global Security Group\, SAP America. \nClick here to register for the event: https://tinyurl.com/ASEIQuantum
URL:https://aseiusa.org/event/a-curious-case-of-quantum-computing/
CATEGORIES:Michigan,Upcoming
ATTACH;FMTTYPE=image/png:https://aseiusa.org/wp-content/uploads/2025/05/CuriousCase.png
END:VEVENT
BEGIN:VEVENT
DTSTART;TZID=UTC:20250327T183000
DTEND;TZID=UTC:20250327T203000
DTSTAMP:20260422T184355
CREATED:20250323T091957Z
LAST-MODIFIED:20250323T091957Z
UID:9950-1743100200-1743107400@aseiusa.org
SUMMARY:Unleash the Power Within
DESCRIPTION:Unleash the Power Within \nBehind every unstoppable woman is a fire within – waiting to ignite. This Women’s History Month\, let’s break barriers\, defy limits\, and unleash the power within! This is not just a conversation for women—it’s a movement for all. \nJoin us for an evening of networking and listen to Ashwini Balasubramanian\, as she takes us through an exploration of strength\, resilience\, and the power of unity in shaping a more inclusive world. Ashwini is the President – Automotive Women’s Alliance Foundation and Head of Motorcycle Development Strategy & Operations\, Harley Davidson Motor Company. \nRegister by clicking here: https://tinyurl.com/ASEIWomenMonth \nWhen: Mar 27\, 2025\, 06:30 pm ET\nWhere: Saffron Indian Cuisine\n29200 Orchard Lake Rd\, Farmington Hills\, MI 48334
URL:https://aseiusa.org/event/unleash-the-power-within/
CATEGORIES:Michigan,Upcoming
ATTACH;FMTTYPE=image/png:https://aseiusa.org/wp-content/uploads/2025/03/POWER-Within-7.png
END:VEVENT
BEGIN:VEVENT
DTSTART;TZID=America/Detroit:20250315T100000
DTEND;TZID=America/Detroit:20250315T150000
DTSTAMP:20260422T184355
CREATED:20250209T162112Z
LAST-MODIFIED:20250226T010947Z
UID:9650-1742032800-1742050800@aseiusa.org
SUMMARY:Celebrating International Women’s Day 2025
DESCRIPTION:Join us for an unforgettable and empowering celebration of International Women’s Day 2025\, proudly sponsored by the Schoolcraft College Foundation and the Michigan Asian Pacific American Affairs Commission. \nIn collaboration with Asian Indian Women’s Association (AIWA)\, American Society of Engineers of Indian Origin (ASEI)\, Council of Asian Pacific Americans (CAPA)\, Dragon Eagle TV\, Korean American Women’s Association of USA (KAWA-USA)\, Mai Family Services (MaiFS)\, Philippine Nurse’s Association of Michigan (PNAM)\, and Wind Dance Chinese Cultural Group (WDCCG)\, this event will be a transformative\, inclusive\, and deeply meaningful experience. \nTogether\, we will celebrate the extraordinary achievements\, resilience\, and strength of women around the world\, while uniting to amplify our voices for gender equality\, empowerment\, and social change. \nEvent is open to all adults\, and youth ages 12 -18.\nHot lunch is included with the ticket and prepared by Schoolcraft College’s renowned culinary team! \nDate: Saturday\, March 15\, 2025\nTime: 10:00 AM – 3:00 PM\nTicket Cost: $30 per adult | $10 per youth (ages 12–18)\nLocation: Schoolcraft College Vista Tech Center\n18600 Haggerty Road\, Livonia\, MI 48152 \nRegister early by using the provided link: \nhttps://lnkd.in/gc9NCNMK \nThis year’s event will showcase a vibrant blend of perspectives from across Michigan\, uniting students\, young professionals\, and seasoned leaders from corporate\, nonprofit\, and cultural sectors. It is designed to be a powerful platform for inspiration\, connection\, and action\, equipping women and youth with tools to spark meaningful change in their lives and communities. \nLet us come together in solidarity\, strength\, and purpose to accelerate action toward a future where equality and opportunity thrive for all. \nRegister and join the movement\, and be the change. The time for action is NOW! \nLook forward to seeing you at this exciting event celebrating International Women’s Day (IWD) 2025!
URL:https://aseiusa.org/event/celebrating-international-womens-day-2025/
CATEGORIES:Michigan,Upcoming
ATTACH;FMTTYPE=image/jpeg:https://aseiusa.org/wp-content/uploads/2025/02/1737133974963.jpg
END:VEVENT
BEGIN:VEVENT
DTSTART;TZID=UTC:20250215T140000
DTEND;TZID=UTC:20250215T170000
DTSTAMP:20260422T184355
CREATED:20250119T204252Z
LAST-MODIFIED:20250122T100258Z
UID:9402-1739628000-1739638800@aseiusa.org
SUMMARY:Career ready with AI & Agents
DESCRIPTION:Learn from 10+ expert Speakers and network with 100+ invited CTOs\, scientists\, engineers\, impact investors\, entrepreneurs and technology and business executives.
URL:https://aseiusa.org/event/career-ready-with-ai-agents/
CATEGORIES:Silicon Valley,Upcoming
ATTACH;FMTTYPE=image/jpeg:https://aseiusa.org/wp-content/uploads/2025/01/AI.jpg
END:VEVENT
BEGIN:VEVENT
DTSTART;TZID=America/Los_Angeles:20250119T080000
DTEND;TZID=America/Los_Angeles:20250119T100000
DTSTAMP:20260422T184355
CREATED:20250113T093406Z
LAST-MODIFIED:20250113T121329Z
UID:9398-1737273600-1737280800@aseiusa.org
SUMMARY:Walk & Talk ? Lets go for a Hike in Nature
DESCRIPTION:Lets go for a Hike in Nature \nJoin us for a refreshing hike at the Don Edwards San Francisco Bay National Wildlife Refuge! Get ready to explore the beautiful trails\, spot wildlife\, and enjoy the fresh air. This in-person event is a great opportunity to connect with nature and unwind from the hustle and bustle of daily life. Don’t forget to wear comfortable shoes and bring water to stay hydrated. We will “walk and talk” all about AI\, Entrepreneurship and Agents. Let’s make some memories with ASEI members and TheAgentic.AI in the great outdoors together! \nNote: By registering/attending you consent to be photographed during the event that may be used in ASEI or social media reports.
URL:https://aseiusa.org/event/walk-talk-lets-go-for-a-hike-in-nature/
LOCATION:Don Edwards San Francisco Bay National Wildlife Refuge\, 2 Marshlands Road\, Fremont\, CA\, 94555\, United States
CATEGORIES:Silicon Valley,Upcoming
ATTACH;FMTTYPE=image/jpeg:https://aseiusa.org/wp-content/uploads/2025/01/WhatsApp-Image-2025-01-13-at-16.39.26.jpeg
END:VEVENT
END:VCALENDAR